BEGIN:VCALENDAR
VERSION:2.0
PRODID:-//Vanderhoof - ECPv6.15.20//NONSGML v1.0//EN
CALSCALE:GREGORIAN
METHOD:PUBLISH
X-ORIGINAL-URL:https://vanderhoof.ca
X-WR-CALDESC:Events for Vanderhoof
REFRESH-INTERVAL;VALUE=DURATION:PT1H
X-Robots-Tag:noindex
X-PUBLISHED-TTL:PT1H
BEGIN:VTIMEZONE
TZID:America/Vancouver
BEGIN:DAYLIGHT
TZOFFSETFROM:-0800
TZOFFSETTO:-0700
TZNAME:PDT
DTSTART:20240310T100000
END:DAYLIGHT
BEGIN:STANDARD
TZOFFSETFROM:-0700
TZOFFSETTO:-0800
TZNAME:PST
DTSTART:20241103T090000
END:STANDARD
BEGIN:DAYLIGHT
TZOFFSETFROM:-0800
TZOFFSETTO:-0700
TZNAME:PDT
DTSTART:20250309T100000
END:DAYLIGHT
BEGIN:STANDARD
TZOFFSETFROM:-0700
TZOFFSETTO:-0800
TZNAME:PST
DTSTART:20251102T090000
END:STANDARD
BEGIN:DAYLIGHT
TZOFFSETFROM:-0800
TZOFFSETTO:-0700
TZNAME:PDT
DTSTART:20260308T100000
END:DAYLIGHT
BEGIN:STANDARD
TZOFFSETFROM:-0700
TZOFFSETTO:-0800
TZNAME:PST
DTSTART:20261101T090000
END:STANDARD
END:VTIMEZONE
BEGIN:VEVENT
DTSTART;TZID=America/Vancouver:20250528T173000
DTEND;TZID=America/Vancouver:20250528T183000
DTSTAMP:20260419T054737
CREATED:20250521T221741Z
LAST-MODIFIED:20250521T221742Z
UID:9004-1748453400-1748457000@vanderhoof.ca
SUMMARY:In Camera Council Meeting Notice
DESCRIPTION:Pursuant to section 90 of the Community Charter\, In Camera Council Meetings are not open to the public. \n\n\n\nView the meeting notice. \n\n\n\nEmail for more information.
URL:https://vanderhoof.ca/event/in-camera-council-meeting-notice-59/
END:VEVENT
END:VCALENDAR