BEGIN:VCALENDAR
VERSION:2.0
PRODID:-//Vanderhoof - ECPv6.15.20//NONSGML v1.0//EN
CALSCALE:GREGORIAN
METHOD:PUBLISH
X-WR-CALNAME:Vanderhoof
X-ORIGINAL-URL:https://vanderhoof.ca
X-WR-CALDESC:Events for Vanderhoof
REFRESH-INTERVAL;VALUE=DURATION:PT1H
X-Robots-Tag:noindex
X-PUBLISHED-TTL:PT1H
BEGIN:VTIMEZONE
TZID:America/Vancouver
BEGIN:DAYLIGHT
TZOFFSETFROM:-0800
TZOFFSETTO:-0700
TZNAME:PDT
DTSTART:20250309T100000
END:DAYLIGHT
BEGIN:STANDARD
TZOFFSETFROM:-0700
TZOFFSETTO:-0800
TZNAME:PST
DTSTART:20251102T090000
END:STANDARD
BEGIN:DAYLIGHT
TZOFFSETFROM:-0800
TZOFFSETTO:-0700
TZNAME:PDT
DTSTART:20260308T100000
END:DAYLIGHT
BEGIN:STANDARD
TZOFFSETFROM:-0700
TZOFFSETTO:-0800
TZNAME:PST
DTSTART:20261101T090000
END:STANDARD
BEGIN:DAYLIGHT
TZOFFSETFROM:-0800
TZOFFSETTO:-0700
TZNAME:PDT
DTSTART:20270314T100000
END:DAYLIGHT
BEGIN:STANDARD
TZOFFSETFROM:-0700
TZOFFSETTO:-0800
TZNAME:PST
DTSTART:20271107T090000
END:STANDARD
END:VTIMEZONE
BEGIN:VEVENT
DTSTART;TZID=America/Vancouver:20260407T160000
DTEND;TZID=America/Vancouver:20260407T170000
DTSTAMP:20260420T002423
CREATED:20260402T180231Z
LAST-MODIFIED:20260402T180237Z
UID:9811-1775577600-1775581200@vanderhoof.ca
SUMMARY:Special Council Meeting (Budget)
DESCRIPTION:View the Agenda \n\n\n\nEmail for more information
URL:https://vanderhoof.ca/event/special-council-meeting-budget-5/
END:VEVENT
END:VCALENDAR