BEGIN:VCALENDAR
VERSION:2.0
PRODID:-//Vanderhoof - ECPv6.15.20//NONSGML v1.0//EN
CALSCALE:GREGORIAN
METHOD:PUBLISH
X-ORIGINAL-URL:https://vanderhoof.ca
X-WR-CALDESC:Events for Vanderhoof
REFRESH-INTERVAL;VALUE=DURATION:PT1H
X-Robots-Tag:noindex
X-PUBLISHED-TTL:PT1H
BEGIN:VTIMEZONE
TZID:America/Vancouver
BEGIN:DAYLIGHT
TZOFFSETFROM:-0800
TZOFFSETTO:-0700
TZNAME:PDT
DTSTART:20240310T100000
END:DAYLIGHT
BEGIN:STANDARD
TZOFFSETFROM:-0700
TZOFFSETTO:-0800
TZNAME:PST
DTSTART:20241103T090000
END:STANDARD
BEGIN:DAYLIGHT
TZOFFSETFROM:-0800
TZOFFSETTO:-0700
TZNAME:PDT
DTSTART:20250309T100000
END:DAYLIGHT
BEGIN:STANDARD
TZOFFSETFROM:-0700
TZOFFSETTO:-0800
TZNAME:PST
DTSTART:20251102T090000
END:STANDARD
BEGIN:DAYLIGHT
TZOFFSETFROM:-0800
TZOFFSETTO:-0700
TZNAME:PDT
DTSTART:20260308T100000
END:DAYLIGHT
BEGIN:STANDARD
TZOFFSETFROM:-0700
TZOFFSETTO:-0800
TZNAME:PST
DTSTART:20261101T090000
END:STANDARD
END:VTIMEZONE
BEGIN:VEVENT
DTSTART;TZID=America/Vancouver:20251105T170000
DTEND;TZID=America/Vancouver:20251105T190000
DTSTAMP:20260422T111140
CREATED:20251031T200518Z
LAST-MODIFIED:20251031T200519Z
UID:9314-1762362000-1762369200@vanderhoof.ca
SUMMARY:Information Session:  CNC Vanderhoof
DESCRIPTION:When: Nov 5\, 2025 | 5:00 PM – 7:00 PMWhere: CNC Vanderhoof195 1 St\, Vanderhoof\, BC V0J 3A2 \n\n\n\nJoin our upcoming Information Session at CNC Vanderhoof to learn more about our programs\, how to apply\, and what student life is like. \n\n\n\nLearn about Academic Upgrading\, Trades Discovery\, and more! \n\n\n\nRSVP today for a chance to WIN a new pair of AirPods Pro 3.  Plus\, everyone who attends will receive a free application waiver code – apply for free when you’re ready to start your journey. \n\n\n\nSee all the details \n\n\n\nRSVP Today!
URL:https://vanderhoof.ca/event/information-session-cnc-vanderhoof/
END:VEVENT
BEGIN:VEVENT
DTSTART;TZID=America/Vancouver:20251110T173000
DTEND;TZID=America/Vancouver:20251110T183000
DTSTAMP:20260422T111140
CREATED:20251105T202946Z
LAST-MODIFIED:20251105T202947Z
UID:9318-1762795800-1762799400@vanderhoof.ca
SUMMARY:Regular Council Meeting
DESCRIPTION:View the Agenda Package \n\n\n\nEmail for more information
URL:https://vanderhoof.ca/event/regular-council-meeting-48/
END:VEVENT
BEGIN:VEVENT
DTSTART;TZID=America/Vancouver:20251112T120000
DTEND;TZID=America/Vancouver:20251112T130000
DTSTAMP:20260422T111140
CREATED:20251110T021831Z
LAST-MODIFIED:20251110T021833Z
UID:9321-1762948800-1762952400@vanderhoof.ca
SUMMARY:Community Forest Board Meeting
DESCRIPTION:View the Agenda Package \n\n\n\nEmail for more information
URL:https://vanderhoof.ca/event/community-forest-board-meeting-6/
END:VEVENT
BEGIN:VEVENT
DTSTART;TZID=America/Vancouver:20251117T173000
DTEND;TZID=America/Vancouver:20251117T183000
DTSTAMP:20260422T111140
CREATED:20251113T200857Z
LAST-MODIFIED:20251113T200858Z
UID:9328-1763400600-1763404200@vanderhoof.ca
SUMMARY:Special Council Meeting (Grant-in-Aid)
DESCRIPTION:View the agenda package \n\n\n\nEmail for more information
URL:https://vanderhoof.ca/event/special-council-meeting-grant-in-aid-3/
END:VEVENT
BEGIN:VEVENT
DTSTART;TZID=America/Vancouver:20251124T173000
DTEND;TZID=America/Vancouver:20251124T183000
DTSTAMP:20260422T111140
CREATED:20251120T233125Z
LAST-MODIFIED:20251120T233129Z
UID:9355-1764005400-1764009000@vanderhoof.ca
SUMMARY:Regular Council Meeting
DESCRIPTION:View the Agenda Package \n\n\n\nEmail for more information
URL:https://vanderhoof.ca/event/regular-council-meeting-49/
END:VEVENT
BEGIN:VEVENT
DTSTART;TZID=America/Vancouver:20251128T180000
DTEND;TZID=America/Vancouver:20251128T213000
DTSTAMP:20260422T111140
CREATED:20251113T212227Z
LAST-MODIFIED:20251113T212239Z
UID:9331-1764352800-1764365400@vanderhoof.ca
SUMMARY:Movember Event
DESCRIPTION:
URL:https://vanderhoof.ca/event/movember-event/
END:VEVENT
END:VCALENDAR